BEGIN:VCALENDAR
VERSION:2.0
PRODID:-//University of Colombo, Sri Lanka
CALSCALE:GREGORIAN
METHOD:PUBLISH
X-WR-CALNAME:University of Colombo, Sri Lanka
X-ORIGINAL-URL:https://cmb.ac.lk/event/global-exposure-an-insight-into-creator-economy
X-WR-CALDESC:Global Exposure &#8211; An insight into Creator Economy
BEGIN:VEVENT
DTSTART:20230831T130000
DTEND:20230831T150000
SUMMARY:Global Exposure &#8211; An insight into Creator Economy
DESCRIPTION:
LOCATION:New Arts Theatre, University of Colombo
END:VEVENT
END:VCALENDAR
