BEGIN:VCALENDAR
VERSION:2.0
PRODID:-//University of Colombo, Sri Lanka
CALSCALE:GREGORIAN
METHOD:PUBLISH
X-WR-CALNAME:University of Colombo, Sri Lanka
X-ORIGINAL-URL:https://cmb.ac.lk/event/belt-and-road-initiative-high-end-forum
X-WR-CALDESC:Belt and Road Initiative: High-end Forum for celebrating 65<sup>th</sup> anniversary of China- Sri Lanka diplomatic relations
BEGIN:VEVENT
DTSTART:20221222T080000
DTEND:20221222T153000
SUMMARY:Belt and Road Initiative: High-end Forum for celebrating 65<sup>th</sup> anniversary of China- Sri Lanka diplomatic relations
DESCRIPTION:
LOCATION:Faculty of Arts, University of Colombo
END:VEVENT
END:VCALENDAR
