BEGIN:VCALENDAR
VERSION:2.0
PRODID:-//University of Colombo, Sri Lanka
CALSCALE:GREGORIAN
METHOD:PUBLISH
X-WR-CALNAME:University of Colombo, Sri Lanka
X-ORIGINAL-URL:https://cmb.ac.lk/event/multidisciplinary-research-seminar-international-series-6
X-WR-CALDESC:Multidisciplinary Research Seminar International Series 6
BEGIN:VEVENT
DTSTART:20221123T140000
DTEND:20221123T030000
SUMMARY:Multidisciplinary Research Seminar International Series 6
DESCRIPTION:
LOCATION:Faculty of Arts, University of Colombo
END:VEVENT
END:VCALENDAR
