BEGIN:VCALENDAR
VERSION:2.0
PRODID:-//University of Colombo, Sri Lanka
CALSCALE:GREGORIAN
METHOD:PUBLISH
X-WR-CALNAME:University of Colombo, Sri Lanka
X-ORIGINAL-URL:https://cmb.ac.lk/event/the-making-of-a-legacy
X-WR-CALDESC:&#8220;THE MAKING OF A LEGACY&#8221; | A discussion to Embolden the enthusiasm of the society in conserving mother nature for generations to come
BEGIN:VEVENT
DTSTART:20220604T150000
DTEND:20220604T170000
SUMMARY:&#8220;THE MAKING OF A LEGACY&#8221; | A discussion to Embolden the enthusiasm of the society in conserving mother nature for generations to come
DESCRIPTION:
LOCATION:Faculty of Science, University of Colombo
END:VEVENT
END:VCALENDAR
