BEGIN:VCALENDAR
VERSION:2.0
PRODID:-//University of Colombo, Sri Lanka
CALSCALE:GREGORIAN
METHOD:PUBLISH
X-WR-CALNAME:University of Colombo, Sri Lanka
X-ORIGINAL-URL:https://cmb.ac.lk/event/guest-lecture-on-the-origin-of-chinese-tea-culture
X-WR-CALDESC:Guest Lecture on “The Origin of Chinese Tea Culture”
BEGIN:VEVENT
DTSTART:20210917T150000
DTEND:20210917T163000
SUMMARY:Guest Lecture on “The Origin of Chinese Tea Culture”
DESCRIPTION:
LOCATION:Faculty of Arts, University of Colombo
END:VEVENT
END:VCALENDAR
