BEGIN:VCALENDAR
VERSION:2.0
PRODID:-//University of Colombo, Sri Lanka
CALSCALE:GREGORIAN
METHOD:PUBLISH
X-WR-CALNAME:University of Colombo, Sri Lanka
X-ORIGINAL-URL:https://cmb.ac.lk/event/geopolitics-of-china-in-africa
X-WR-CALDESC:Guest Lecture on &#8220;Geopolitics of China in Africa with a special emphasis on Chinese development assistance Africa&#8221; &#8211; Faculty of Arts
BEGIN:VEVENT
DTSTART:20210717T190000
DTEND:20210717T210000
SUMMARY:Guest Lecture on &#8220;Geopolitics of China in Africa with a special emphasis on Chinese development assistance Africa&#8221; &#8211; Faculty of Arts
DESCRIPTION:
LOCATION:Faculty of Arts, University of Colombo
END:VEVENT
END:VCALENDAR
