BEGIN:VCALENDAR
VERSION:2.0
PRODID:-//University of Colombo, Sri Lanka
CALSCALE:GREGORIAN
METHOD:PUBLISH
X-WR-CALNAME:University of Colombo, Sri Lanka
X-ORIGINAL-URL:https://cmb.ac.lk/event/session-parliamentary-control
X-WR-CALDESC:Session on Parliamentary Control over Public Institutions
BEGIN:VEVENT
DTSTART:20200310T090000
DTEND:20200310T120000
SUMMARY:Session on Parliamentary Control over Public Institutions
DESCRIPTION:
LOCATION:College House Auditorium
END:VEVENT
END:VCALENDAR
