BEGIN:VCALENDAR
VERSION:2.0
PRODID:-//University of Colombo, Sri Lanka
CALSCALE:GREGORIAN
METHOD:PUBLISH
X-WR-CALNAME:University of Colombo, Sri Lanka
X-ORIGINAL-URL:https://cmb.ac.lk/event/guest-lecture-on-arabic
X-WR-CALDESC:Guest Lecture on “Arabic Language in the Business World”
BEGIN:VEVENT
DTSTART:20190119T110000
DTEND:20190119T130000
SUMMARY:Guest Lecture on “Arabic Language in the Business World”
DESCRIPTION:
LOCATION:Board Room, Faculty of Arts, University of Colombo
END:VEVENT
END:VCALENDAR
