BEGIN:VCALENDAR
VERSION:2.0
PRODID:-//University of Colombo, Sri Lanka
CALSCALE:GREGORIAN
METHOD:PUBLISH
X-WR-CALNAME:University of Colombo, Sri Lanka
X-ORIGINAL-URL:https://cmb.ac.lk/event/the-colombo-development-dialogues
X-WR-CALDESC:The  Colombo Development Dialogues
BEGIN:VEVENT
DTSTART:20180831T083000
DTEND:20180831T120000
SUMMARY:The  Colombo Development Dialogues
DESCRIPTION:
LOCATION:
END:VEVENT
END:VCALENDAR
