BEGIN:VCALENDAR
VERSION:2.0
PRODID:-//University of Colombo, Sri Lanka
CALSCALE:GREGORIAN
METHOD:PUBLISH
X-WR-CALNAME:University of Colombo, Sri Lanka
X-ORIGINAL-URL:https://cmb.ac.lk/event/guest-lecture-on-the-theme-the-world-and-you
X-WR-CALDESC:Guest lecture on the theme &#8221; The world and you&#8221;
BEGIN:VEVENT
DTSTART:20180620T140000
DTEND:20180620T160000
SUMMARY:Guest lecture on the theme &#8221; The world and you&#8221;
DESCRIPTION:
LOCATION:Faculty of Education, University of Colombo, 94, Cumaratunga Munidasa Mawatha, Colombo 03,
END:VEVENT
END:VCALENDAR
